BEGIN:VCALENDAR
VERSION:2.0
PRODID:-//eventon.com NONSGML v1.0//EN
BEGIN:VEVENT
UID:69ea65a001a46
DTSTAMP:20260423T203200
DTSTART:20200321T103000Z
DTEND:20200321T143000Z
TZID:UTC
LOCATION:La Cucina del Sole Warmondstraat 180 1058 LC Amsterdam
SUMMARY:Pasta & Gnocchi Workshop
DESCRIPTION: You make beautiful\,  silky pasta dough with 2 types of flour and eggs\,  then prepare three types of pasta and some classic potato gnocchi plus 4 sauces. You’ll get all the tips and tricks from real Italian cooks who’ve been making pasta since they were children! We make ravioli filled[..]\nhttps://www.cucinadelsole.nl/events/pasta-gnocchi-workshop/
URL:https://www.cucinadelsole.nl/events/pasta-gnocchi-workshop/
END:VEVENT
END:VCALENDAR