BEGIN:VCALENDAR
VERSION:2.0
PRODID:-//eventon.com NONSGML v1.0//EN
BEGIN:VEVENT
UID:69e74bb4520c2
DTSTAMP:20260421T120436
DTSTART:20200118T103000Z
DTEND:20200118T143000Z
TZID:UTC
LOCATION:La Cucina del Sole Warmondstraat 180 1058 LC Amsterdam
SUMMARY:Pizza workshop
DESCRIPTION: Learn how to make pizza like a pro! During this workshop we prepare two types of dough: one for pizza romana (the thin-crusted one) and one for the pizza napoletana (the thicker one). Click here for complete info on this workshop.\nhttps://www.cucinadelsole.nl/events/pizza-workshop-click-for-info/
URL:https://www.cucinadelsole.nl/events/pizza-workshop-click-for-info/
END:VEVENT
END:VCALENDAR