BEGIN:VCALENDAR
VERSION:2.0
PRODID:-//eventon.com NONSGML v1.0//EN
BEGIN:VEVENT
UID:69e7b80da8f0a
DTSTAMP:20260421T194653
DTSTART:20190213T183000Z
DTEND:20190213T223000Z
TZID:UTC
LOCATION:La Cucina del Sole Warmondstraat 180 1058 LC Amsterdam
SUMMARY:Cursus Basis vd Italiaanse keuken (4 lessen\,  KLIK VOOR INFO)
DESCRIPTION: De basis van de echte Italiaanse keuken in 4 lessen. Klik hier voor info/om te boeken.\nhttps://www.cucinadelsole.nl/?post_type=ajde_events&p=6246
URL:https://www.cucinadelsole.nl/?post_type=ajde_events&p=6246
END:VEVENT
END:VCALENDAR