BEGIN:VCALENDAR
VERSION:2.0
PRODID:-//eventon.com NONSGML v1.0//EN
BEGIN:VEVENT
UID:69e78fec106d4
DTSTAMP:20260421T165540
DTSTART:20190219T103000Z
DTEND:20190219T143000Z
TZID:UTC
LOCATION:La Cucina del Sole Warmondstraat 180 1058 LC Amsterdam
SUMMARY:Kookvakantie Sicilië (klik voor info)
DESCRIPTION: Een van de vele culinaire trips naar Sicilië die we organiseren! Klik hier voor info/om te boeken.\nhttps://www.cucinadelsole.nl/?post_type=ajde_events&p=6248
URL:https://www.cucinadelsole.nl/?post_type=ajde_events&p=6248
END:VEVENT
END:VCALENDAR