BEGIN:VCALENDAR
VERSION:2.0
PRODID:-//eventon.com NONSGML v1.0//EN
BEGIN:VEVENT
UID:69e77a59124b9
DTSTAMP:20260421T152337
DTSTART:20190525T103000Z
DTEND:20190525T143000Z
TZID:UTC
LOCATION:La Cucina del Sole Warmondstraat 180 1058 LC Amsterdam
SUMMARY:Pizza workshop (KLIK VOOR INFO)
DESCRIPTION: Leer twee verschillende soorten deeg maken waaronder de klassieke Napoletana en maak je creaties af op een hete pizzasteen. Klik hier om meer info en om te boeken.\nhttps://www.cucinadelsole.nl/?post_type=ajde_events&p=3246
URL:https://www.cucinadelsole.nl/?post_type=ajde_events&p=3246
END:VEVENT
END:VCALENDAR