BEGIN:VCALENDAR
VERSION:2.0
PRODID:-//eventon.com NONSGML v1.0//EN
BEGIN:VEVENT
UID:69e7650861b14
DTSTAMP:20260421T135240
DTSTART:20190209T103000Z
DTEND:20190209T143000Z
TZID:UTC
LOCATION:La Cucina del Sole Warmondstraat 180 1058 LC Amsterdam
SUMMARY:Workshop Pasta & Gnocchi + sauzen (KLIK VOOR INFO)
DESCRIPTION: Leer hoe je fantastische pasta (ravioli\,  tagliatelle & Ligurische corzetti) + gnocchi en sauzen thuis kunt maken! Klik hier voor info/om te boeken.\nhttps://www.cucinadelsole.nl/?post_type=ajde_events&p=6253
URL:https://www.cucinadelsole.nl/?post_type=ajde_events&p=6253
END:VEVENT
END:VCALENDAR