BEGIN:VCALENDAR
VERSION:2.0
PRODID:-//eventon.com NONSGML v1.0//EN
BEGIN:VEVENT
UID:69e76506d58bb
DTSTAMP:20260421T135238
DTSTART:20190601T103000Z
DTEND:20190601T143000Z
TZID:UTC
LOCATION:La Cucina del Sole Warmondstraat 180 1058 LC Amsterdam
SUMMARY:Workshop Veganistisch Italiaans koken (KLIK VOOR INFO)
DESCRIPTION: Als je ook meer plant-based wilt eten\,  dan is deze de juiste workshop! Klik hier voor info over deze workshop.\nhttps://www.cucinadelsole.nl/?post_type=ajde_events&p=6254
URL:https://www.cucinadelsole.nl/?post_type=ajde_events&p=6254
END:VEVENT
END:VCALENDAR