BEGIN:VCALENDAR
VERSION:2.0
PRODID:-//eventon.com NONSGML v1.0//EN
BEGIN:VEVENT
UID:69e7657726b1d
DTSTAMP:20260421T135431
DTSTART:20190214T183000Z
DTEND:20190214T223000Z
TZID:UTC
LOCATION:La Cucina del Sole Warmondstraat 180 1058 LC Amsterdam
SUMMARY:Workshop Siciliaans koken (KLIK VOOR INFO)
DESCRIPTION: We maken geweldige gerechten uit Sicilië. Klik hier voor info over deze workshop.\nhttps://www.cucinadelsole.nl/?post_type=ajde_events&p=6255
URL:https://www.cucinadelsole.nl/?post_type=ajde_events&p=6255
END:VEVENT
END:VCALENDAR