BEGIN:VCALENDAR
VERSION:2.0
PRODID:-//eventon.com NONSGML v1.0//EN
BEGIN:VEVENT
UID:69e75046c47e4
DTSTAMP:20260421T122406
DTSTART:20161108T183000Z
DTEND:20161108T223000Z
TZID:UTC
LOCATION:La Cucina del Sole Warmondstraat 180 1058 LC Amsterdam
SUMMARY:Cursus "De basis van de Italiaanse keuken" (klik voor info)
DESCRIPTION: Leer de basis van de Italiaanse keuken in 4 lessen. LES 1. Dinsdag 8 & 22 november en 6 & 20 december 2016 (4 lessen om de week) Klik hier voor meer info over deze cursus.  \nhttps://www.cucinadelsole.nl/?post_type=ajde_events&p=3286
URL:https://www.cucinadelsole.nl/?post_type=ajde_events&p=3286
END:VEVENT
END:VCALENDAR