BEGIN:VCALENDAR
VERSION:2.0
PRODID:-//eventon.com NONSGML v1.0//EN
BEGIN:VEVENT
UID:69e73ae1c2df8
DTSTAMP:20260421T105249
DTSTART:20161016T163000Z
DTEND:20161016T203000Z
TZID:UTC
LOCATION:La Cucina del Sole Warmondstraat 180 1058 LC Amsterdam
SUMMARY:Kookworkshop "De Venetiaanse keuken" (klik voor info)
DESCRIPTION: Van cicchetti (typische Venetiaanse borrelhapjes) tot pompoengnocchi\,  pittige stoofschotel met kip en krokante koekjes met romige zabaione. Klik hier voor meer more info over deze workshop.\nhttps://www.cucinadelsole.nl/?post_type=ajde_events&p=3244
URL:https://www.cucinadelsole.nl/?post_type=ajde_events&p=3244
END:VEVENT
END:VCALENDAR