BEGIN:VCALENDAR
VERSION:2.0
PRODID:-//eventon.com NONSGML v1.0//EN
BEGIN:VEVENT
UID:69e7651e6e8c8
DTSTAMP:20260421T135302
DTSTART:20160907T183000Z
DTEND:20160907T223000Z
TZID:UTC
LOCATION:La Cucina del Sole Warmondstraat 180 1058 LC Amsterdam
SUMMARY:Kookcursus "De streekgebonden Italiaanse keuken" (klik voor info)
DESCRIPTION: 4 lessen\,  4 verschillende streken met zeer bijzondere\,  unieke gerechten. Klick voor meer info over deze cursus.\nhttps://www.cucinadelsole.nl/?post_type=ajde_events&p=3237
URL:https://www.cucinadelsole.nl/?post_type=ajde_events&p=3237
END:VEVENT
END:VCALENDAR