BEGIN:VCALENDAR
VERSION:2.0
PRODID:-//eventon.com NONSGML v1.0//EN
BEGIN:VEVENT
UID:69e750a5051ef
DTSTAMP:20260421T122541
DTSTART:20190414T163000Z
DTEND:20190414T213000Z
TZID:UTC
LOCATION:La Cucina del Sole Warmondstraat 180 1058 LC Amsterdam
SUMMARY:Workshop "De keuken van Puglia" (klik voor info)
DESCRIPTION: Puglia is de “hak” van de Laars en heeft een van de beste en meest pure keukens van heel Italië. Klik hier voor info over deze workshop.\nhttps://www.cucinadelsole.nl/?post_type=ajde_events&p=3234
URL:https://www.cucinadelsole.nl/?post_type=ajde_events&p=3234
END:VEVENT
END:VCALENDAR