BEGIN:VCALENDAR
VERSION:2.0
PRODID:-//eventon.com NONSGML v1.0//EN
BEGIN:VEVENT
UID:69e73ab91358a
DTSTAMP:20260421T105209
DTSTART:20190420T163000Z
DTEND:20190420T203000Z
TZID:UTC
LOCATION:La Cucina del Sole Warmondstraat 180 1058 LC Amsterdam
SUMMARY:Workshop "De Napolitaanse keuken" (klik voor info)
DESCRIPTION: De Napolitaanse keuken\,  is rijk\,  vol smaak en zon. Mozzarella in carrozza\,  zelfgemaakte pasta en caprese taart zijn alleen maar een deel van de gerechten die we vandaag maken. Klik hier voor meer info over deze workshop.\nhttps://www.cucinadelsole.nl/?post_type=ajde_events&p=3227
URL:https://www.cucinadelsole.nl/?post_type=ajde_events&p=3227
END:VEVENT
END:VCALENDAR