BEGIN:VCALENDAR
VERSION:2.0
PRODID:-//eventon.com NONSGML v1.0//EN
BEGIN:VEVENT
UID:69e73ac5de332
DTSTAMP:20260421T105221
DTSTART:20160915T183000Z
DTEND:20160915T223000Z
TZID:UTC
LOCATION:La Cucina del Sole Warmondstraat 180 1058 LC Amsterdam
SUMMARY:Workshop "De perfecte risotto" (klik voor info)
DESCRIPTION: Leer alle geheimen om een perfecte risotto te maken! Klik hier voor info over deze workshop.\nhttps://www.cucinadelsole.nl/?post_type=ajde_events&p=3224
URL:https://www.cucinadelsole.nl/?post_type=ajde_events&p=3224
END:VEVENT
END:VCALENDAR