BEGIN:VCALENDAR
VERSION:2.0
PRODID:-//eventon.com NONSGML v1.0//EN
BEGIN:VEVENT
UID:69ed3b03f03fc
DTSTAMP:20260426T000659
DTSTART:20230819T103000Z
DTEND:20230819T143000Z
TZID:Europe/Berlin
LOCATION:
SUMMARY:DE KEUKEN VAN PUGLIA 
DESCRIPTION: We beginnen met polpette di melanzane (goudbruine gefrituurde aubergineballetjes met pecorino en oregano) als borrelhap. Daarna eten we heerlijke capunti\,  zelfgemaakte pasta met Primitivo wijn in een pittige caponata pugliese saus met tomaat en verse groenten. We gaan verder met een klassieke calzone di cipolla\,  een heerlijke focaccia gevuld met zoete uien\,  pecorino en olijven\,  en gevulde courgettes uit de oven. Plus een bijgerecht[..]\nhttps://www.cucinadelsole.nl/events/the-apulian-cuisine-14/
URL:https://www.cucinadelsole.nl/events/the-apulian-cuisine-14/
END:VEVENT
END:VCALENDAR