BEGIN:VCALENDAR
VERSION:2.0
PRODID:-//eventon.com NONSGML v1.0//EN
BEGIN:VEVENT
UID:69ed08c09e52f
DTSTAMP:20260425T203232
DTSTART:20230611T150000Z
DTEND:20230611T180000Z
TZID:Europe/Berlin
LOCATION:
SUMMARY:MASTERCLASS ITALIAANSE ZOETIGHEDEN EN DESSERT 
DESCRIPTION: Kom leren hoe je enkele van de geweldige dolci (zoetigheden) en desserts van Italië kunt maken! Elke Italiaanse regio heeft verschillende zoete lekkernijen en je leert hoe je een aantal van de heerlijkste kunt maken – en proeven. Deze workshop is een Italiaanse High Tea waarbij je alle gerechten die je maakt[..]\nhttps://www.cucinadelsole.nl/events/masterclass-italian-pastries-and-desserts/
URL:https://www.cucinadelsole.nl/events/masterclass-italian-pastries-and-desserts/
END:VEVENT
END:VCALENDAR