BEGIN:VCALENDAR
VERSION:2.0
PRODID:-//eventon.com NONSGML v1.0//EN
BEGIN:VEVENT
UID:69ece6162e5e4
DTSTAMP:20260425T180438
DTSTART:20230930T103000Z
DTEND:20230930T143000Z
TZID:Europe/Berlin
LOCATION:
SUMMARY:VENETIAANSE KEUKEN 
DESCRIPTION: We beginnen onze reis in de geschiedenis van Venetië en haar calli (de kleine straatjes) door twee&nbsp;cicchetti&nbsp;te bereiden: kleine hapjes die in de karakteristieke cafés genoemd bàcari als aperitief worden geserveerd. Bij onze&nbsp;cicchetti&nbsp;drinken we een&nbsp;Spritz\,  de bekende cocktail met Campari en Prosecco. We maken polpettine di carne e patate (gefrituurde[..]\nhttps://www.cucinadelsole.nl/events/venetian-cuisine-3/
URL:https://www.cucinadelsole.nl/events/venetian-cuisine-3/
END:VEVENT
END:VCALENDAR