BEGIN:VCALENDAR
VERSION:2.0
PRODID:-//eventon.com NONSGML v1.0//EN
BEGIN:VEVENT
UID:69ecda66aea28
DTSTAMP:20260425T171446
DTSTART:20230813T163000Z
DTEND:20230813T203000Z
TZID:Europe/Berlin
LOCATION:
SUMMARY:PIZZA WORKSHOP
DESCRIPTION: Leer pizza maken als een “pro”! Tijdens deze workshop maken we&nbsp;twee soorten deeg: eentje voor de&nbsp;pizza romana&nbsp;(dunne bodem) en eentje voor de&nbsp;pizza napoletana&nbsp;(iets dikkere bodem). Voor complete info over deze workshop klik op “Learn more”.\nhttps://www.cucinadelsole.nl/events/pizza-workshop-27/
URL:https://www.cucinadelsole.nl/events/pizza-workshop-27/
END:VEVENT
END:VCALENDAR