BEGIN:VCALENDAR
VERSION:2.0
PRODID:-//eventon.com NONSGML v1.0//EN
BEGIN:VEVENT
UID:69e6e86812fb9
DTSTAMP:20260421T050056
DTSTART:20231031T180000Z
DTEND:20231031T220000Z
TZID:Europe/Berlin
LOCATION:
SUMMARY:DE PERFECTE RISOTTO
DESCRIPTION: “Risotto maken is moeilijk” en “Het duurt altijd drie kwartier&nbsp; voordat het klaar is” horen we vaak op onze workshops. Niets is minder waar want een perfecte risotto is zo gepiept. Je hebt weliswaar enig geduld (maximaal zo’n twintig minuten) en goede ingrediënten nodig\,  dat wel. En met de kennis[..]\nhttps://www.cucinadelsole.nl/events/the-perfect-risotto-4/
URL:https://www.cucinadelsole.nl/events/the-perfect-risotto-4/
END:VEVENT
END:VCALENDAR