BEGIN:VCALENDAR
VERSION:2.0
PRODID:-//eventon.com NONSGML v1.0//EN
BEGIN:VEVENT
UID:69e6e8684c4c6
DTSTAMP:20260421T050056
DTSTART:20230722T103000Z
DTEND:20230722T143000Z
TZID:Europe/Berlin
LOCATION:
SUMMARY:THE SICILIAN CUISINE 
DESCRIPTION: We start with the wonderful&nbsp;involtini di melanzane con spaghettini\,  grilled aubergine rolls stuffed with thin spaghetti in a rich tomato & salted ricotta sauce. We proceed with the surprising&nbsp;fuazza agli spinaci\,  a rolled-up focaccia stuffed with spinach\,  olives\,  garlic and lots of pecorino cheese. The&nbsp;pollo con peperonata siciliana&nbsp;(chicken in bell[..]\nhttps://www.cucinadelsole.nl/events/the-sicilian-cuisine-12/
URL:https://www.cucinadelsole.nl/events/the-sicilian-cuisine-12/
END:VEVENT
END:VCALENDAR