BEGIN:VCALENDAR
VERSION:2.0
PRODID:-//eventon.com NONSGML v1.0//EN
BEGIN:VEVENT
UID:69e6e8979a723
DTSTAMP:20260421T050143
DTSTART:20230430T163000Z
DTEND:20230430T203000Z
TZID:Europe/Berlin
LOCATION:
SUMMARY:TIPSY DATE NIGHT 
DESCRIPTION: Do you love Italian food and wine and would you like to surprise your partner\,  a friend or any other loved one with a&nbsp;tasty date night? Or learn some delicious recipes to&nbsp;cook at home for a special someone? You can come&nbsp;alone or with someone else.Join us on this winey date[..]\nhttps://www.cucinadelsole.nl/events/tipsy-date-night-4/
URL:https://www.cucinadelsole.nl/events/tipsy-date-night-4/
END:VEVENT
END:VCALENDAR