BEGIN:VCALENDAR
VERSION:2.0
PRODID:-//eventon.com NONSGML v1.0//EN
BEGIN:VEVENT
UID:69e6e863288dc
DTSTAMP:20260421T050051
DTSTART:20230926T180000Z
DTEND:20230926T223000Z
TZID:Europe/Berlin
LOCATION:
SUMMARY:DE TOSCAANSE KEUKEN 
DESCRIPTION: Deze kookworkshop is een eerbetoon aan de Toscaanse keuken\,  die wereldwijd zeer geliefd is voor haar eenvoudige en toch fantastische gerechten. We bereiden&nbsp;twee soorten crostini&nbsp;(groene met een smaakvolle kruidenpesto en rode met een pittige tomaat- en bonencrème) en dan&nbsp;crespelle alla fiorentina&nbsp;(dunne handgemaakte&nbsp;cannelloni gevuld met ricotta en spinazie&nbsp;in tomatensaus). De bijgerechten&nbsp;zijn&nbsp;panzanella\, [..]\nhttps://www.cucinadelsole.nl/events/the-tuscan-cuisine-6/
URL:https://www.cucinadelsole.nl/events/the-tuscan-cuisine-6/
END:VEVENT
END:VCALENDAR