BEGIN:VCALENDAR
VERSION:2.0
PRODID:-//eventon.com NONSGML v1.0//EN
BEGIN:VEVENT
UID:69e6fd234ad21
DTSTAMP:20260421T062923
DTSTART:20230926T180000Z
DTEND:20230926T223000Z
TZID:Europe/Berlin
LOCATION:
SUMMARY:THE TUSCAN CUISINE 
DESCRIPTION: This Tuscan cooking workshop is the example of why the Tuscan cuisine is so loved: because of her simplicity and amazing tastiness. We prepare&nbsp;two types of crostini&nbsp;(green ones with a tangy herbal pesto\,  then red ones with a spicy tomato and beans cream) plus&nbsp;crespelle alla fiorentina&nbsp;(thin&nbsp;crêpes stuffed with ricotta and[..]\nhttps://www.cucinadelsole.nl/events/the-tuscan-cuisine-6/
URL:https://www.cucinadelsole.nl/events/the-tuscan-cuisine-6/
END:VEVENT
END:VCALENDAR