BEGIN:VCALENDAR
VERSION:2.0
PRODID:-//eventon.com NONSGML v1.0//EN
BEGIN:VEVENT
UID:69e72c59b3792
DTSTAMP:20260421T095049
DTSTART:20230902T103000Z
DTEND:20230902T143000Z
TZID:Europe/Berlin
LOCATION:
SUMMARY:KOOKCURSUS DE STREEKGEBONDEN ITALIAANSE KEUKEN SAT11 - 4 LESSEN￼
DESCRIPTION: Iedere Italiaanse streek (we hebben er 20 in totaal) heeft zeer karakteristieke eetgewoontes\,  recepten en ingrediënten. In onze culinaire reis door Italië ontdekken we de keukens van de volgende regioni:  Sicilië\,  Puglia\,  Liguria en Toscane. FOR MEER INFO KLIK OP “LEARN MORE”.\nhttps://www.cucinadelsole.nl/events/cooking-course-the-regional-italian-cuisine-sat11-4-lessons%ef%bf%bc/
URL:https://www.cucinadelsole.nl/events/cooking-course-the-regional-italian-cuisine-sat11-4-lessons%ef%bf%bc/
END:VEVENT
END:VCALENDAR