BEGIN:VCALENDAR
VERSION:2.0
PRODID:-//eventon.com NONSGML v1.0//EN
BEGIN:VEVENT
UID:69e72bd8da5a1
DTSTAMP:20260421T094840
DTSTART:20230902T103000Z
DTEND:20230902T143000Z
TZID:Europe/Berlin
LOCATION:
SUMMARY:COOKING COURSE THE REGIONAL ITALIAN CUISINE SAT11 - 4 LESSONS￼
DESCRIPTION: Every Italian region (20 in total) has very specific eating habits\,  recipes and ingredients. In our culinary travel through Italy we discover the following regions:  Sicily\,  Puglia\,  Liguria and Tuscany. FOR MORE INFO CLICK ON “LEARN MORE”.\nhttps://www.cucinadelsole.nl/events/cooking-course-the-regional-italian-cuisine-sat11-4-lessons%ef%bf%bc/
URL:https://www.cucinadelsole.nl/events/cooking-course-the-regional-italian-cuisine-sat11-4-lessons%ef%bf%bc/
END:VEVENT
END:VCALENDAR