BEGIN:VCALENDAR
VERSION:2.0
PRODID:-//eventon.com NONSGML v1.0//EN
BEGIN:VEVENT
UID:69e72b53e76bb
DTSTAMP:20260421T094627
DTSTART:20230319T163000Z
DTEND:20230319T213000Z
TZID:Europe/Berlin
LOCATION:
SUMMARY:TIPSY DATE NIGHT 
DESCRIPTION: Ben je dol op Italiaans eten en wijn en wil je je partner\,  een vriend/in of iemand anders verrassen met een smakelijke&nbsp;date&nbsp;night? Of heerlijke recepten leren om&nbsp;thuis te maken voor een bijzonder iemand? Je kunt&nbsp;alleen komen of met iemand anders.Kom met ons koken op deze “boozy” date night! We zullen[..]\nhttps://www.cucinadelsole.nl/events/tipsy-date-night-3/
URL:https://www.cucinadelsole.nl/events/tipsy-date-night-3/
END:VEVENT
END:VCALENDAR