BEGIN:VCALENDAR
VERSION:2.0
PRODID:-//eventon.com NONSGML v1.0//EN
BEGIN:VEVENT
UID:69e75485d39db
DTSTAMP:20260421T124213
DTSTART:20230301T180000Z
DTEND:20230301T223000Z
TZID:Europe/Berlin
LOCATION:
SUMMARY:TIPSY DATE NIGHT
DESCRIPTION: Ben je dol op Italiaans eten en wijn en wil je je partner\,  een vriend/in of iemand anders verrassen met een smakelijke&nbsp;date&nbsp;night? Of heerlijke recepten leren om&nbsp;thuis te maken voor een bijzonder iemand? Je kunt&nbsp;alleen komen of met iemand anders.Kom met ons koken op deze “boozy” date night! We zullen[..]\nhttps://www.cucinadelsole.nl/events/tipsy-date-night/
URL:https://www.cucinadelsole.nl/events/tipsy-date-night/
END:VEVENT
END:VCALENDAR