BEGIN:VCALENDAR
VERSION:2.0
PRODID:-//eventon.com NONSGML v1.0//EN
BEGIN:VEVENT
UID:69e77ae072fb1
DTSTAMP:20260421T152552
DTSTART:20230603T103000Z
DTEND:20230603T143000Z
TZID:Europe/Berlin
LOCATION:
SUMMARY:KOOKCURSUS BASIS VD ITALIAANSE KEUKEN SAT10 - 4 LESSEN 
DESCRIPTION: Cursus SAT10. 4 lessen op&nbsp;zaterdag&nbsp;3\,  10\,  17 en 24 juni&nbsp;2023&nbsp;met veel van de basisrecepten van de Italiaanse keuken (pasta\,  gnocchi\,  risotto\,  sauzen\,  bolognese\,  ciabatta\,  antipasti en klassieken\,  desserts).VOOR MEER INFO KLIK Op “LEARN MORE”.\nhttps://www.cucinadelsole.nl/events/cooking-course-basics-of-the-italian-cuisine-sat10-4-lessons/
URL:https://www.cucinadelsole.nl/events/cooking-course-basics-of-the-italian-cuisine-sat10-4-lessons/
END:VEVENT
END:VCALENDAR