BEGIN:VCALENDAR
VERSION:2.0
PRODID:-//eventon.com NONSGML v1.0//EN
BEGIN:VEVENT
UID:69e77fb23b624
DTSTAMP:20260421T154626
DTSTART:20230603T103000Z
DTEND:20230603T143000Z
TZID:Europe/Berlin
LOCATION:
SUMMARY:COOKING COURSE BASICS OF THE ITALIAN CUISINE SAT10 - 4 LESSONS 
DESCRIPTION: Course SAT10. 4 lessons on Saturday 3\,  10\,  17 and 24 June 2023 with all the basics of the Italian cuisine (pasta\,  gnocchi\,  risotto\,  sauces\,  bolognese\,  ciabatta\,  classics\,  desserts).FOR MORE INFO CLICK ON “LEARN MORE”.\nhttps://www.cucinadelsole.nl/events/cooking-course-basics-of-the-italian-cuisine-sat10-4-lessons/
URL:https://www.cucinadelsole.nl/events/cooking-course-basics-of-the-italian-cuisine-sat10-4-lessons/
END:VEVENT
END:VCALENDAR