BEGIN:VCALENDAR
VERSION:2.0
PRODID:-//eventon.com NONSGML v1.0//EN
BEGIN:VEVENT
UID:69e7959d3fc73
DTSTAMP:20260421T171957
DTSTART:20230531T183000Z
DTEND:20230531T223000Z
TZID:Europe/Berlin
LOCATION:
SUMMARY:PASTA & GNOCCHI WORKSHOP
DESCRIPTION: Wil je pasta en gnocchi leren maken? Dan is deze kookworkshop voor jou! De hoofdthema’s zijn&nbsp;verse pasta&nbsp;en&nbsp;aardappelgnocchi&nbsp;en je leert alles hierover dankzij de tips en trucs van onze ervaren pastadeskundigen. Iedereen gaat een bolletje deeg maken met 2 soorten bloem en eieren. Daarna gaan we&nbsp;vier verschillende pastasoorten&nbsp;bereiden:&nbsp;ravioli&nbsp;gevuld met ricotta en[..]\nhttps://www.cucinadelsole.nl/events/pasta-gnocchi-workshop-36/
URL:https://www.cucinadelsole.nl/events/pasta-gnocchi-workshop-36/
END:VEVENT
END:VCALENDAR