BEGIN:VCALENDAR
VERSION:2.0
PRODID:-//eventon.com NONSGML v1.0//EN
BEGIN:VEVENT
UID:69e7a7c72a6bc
DTSTAMP:20260421T183727
DTSTART:20230708T103000Z
DTEND:20230708T143000Z
TZID:Europe/Berlin
LOCATION:
SUMMARY:DE KEUKEN VAN PUGLIA 
DESCRIPTION: We beginnen met polpette di melanzane (goudbruine gefrituurde aubergineballetjes met pecorino en oregano) als borrelhap. Daarna eten we heerlijke capunti\,  zelfgemaakte pasta met Primitivo wijn in een pittige caponata pugliese saus met tomaat en verse groenten. We gaan verder met een klassieke calzone di cipolla\,  een heerlijke focaccia gevuld met zoete uien\,  pecorino en olijven\,  en gevulde courgettes uit de oven. Plus een bijgerecht[..]\nhttps://www.cucinadelsole.nl/events/the-apulian-cuisine-12/
URL:https://www.cucinadelsole.nl/events/the-apulian-cuisine-12/
END:VEVENT
END:VCALENDAR