BEGIN:VCALENDAR
VERSION:2.0
PRODID:-//eventon.com NONSGML v1.0//EN
BEGIN:VEVENT
UID:69e7a3dd96ad5
DTSTAMP:20260421T182045
DTSTART:20230422T103000Z
DTEND:20230422T143000Z
TZID:Europe/Berlin
LOCATION:
SUMMARY:DE NAPOLITAANSE KEUKEN
DESCRIPTION: We eten mozzarella in carrozza (goudgele en krokante “mozzarellasandwiches” met zongedroogde tomaten en kruiden) als starte. De eerste gang is maltagliati con le patate\,  een pittige zelfgemaakte pasta met aardappelen\,  verse kruiden en rode pepertjes. Daarna is er de bekende parmigiana di melanzane\,  een ovenschotel met gegrilde aubergines\,  mozzarella en een intens smakende tomaten-basilicumsaus. De bijgerechten[..]\nhttps://www.cucinadelsole.nl/events/the-neapolitan-cuisine-9/
URL:https://www.cucinadelsole.nl/events/the-neapolitan-cuisine-9/
END:VEVENT
END:VCALENDAR