BEGIN:VCALENDAR
VERSION:2.0
PRODID:-//eventon.com NONSGML v1.0//EN
BEGIN:VEVENT
UID:69e7bef475407
DTSTAMP:20260421T201620
DTSTART:20230422T103000Z
DTEND:20230422T143000Z
TZID:Europe/Berlin
LOCATION:
SUMMARY:THE NEAPOLITAN CUISINE
DESCRIPTION: We’re eating&nbsp;mozzarella in carrozza&nbsp;(crunchy&nbsp;fried mozzarella sandwiches&nbsp;with sun-dried tomatoes and herbs)\, &nbsp;maltagliati con le patate\,  a spicy home-made&nbsp;pasta with red chilli peppers\,  potatoes and fresh herbs\,  and the famous&nbsp;parmigiana di melanzane\,  a very rich oven dish with grilled aubergines\,  mozzarella and an intense tasting tomato-basil sauce. The side dishes are wonderfully aromatic[..]\nhttps://www.cucinadelsole.nl/events/the-neapolitan-cuisine-9/
URL:https://www.cucinadelsole.nl/events/the-neapolitan-cuisine-9/
END:VEVENT
END:VCALENDAR