BEGIN:VCALENDAR
VERSION:2.0
PRODID:-//eventon.com NONSGML v1.0//EN
BEGIN:VEVENT
UID:69e799fbac001
DTSTAMP:20260421T173835
DTSTART:20230412T180000Z
DTEND:20230412T223000Z
TZID:Europe/Berlin
LOCATION:
SUMMARY:VENETIAN CUISINE 
DESCRIPTION: We begin our journey into the culinary history of Venice by preparing two&nbsp;cicchetti: small snacks served as aperitif in the characteristic cafés called&nbsp;bàcari. With our&nbsp;cicchetti&nbsp;we drink a&nbsp;Spritz\,  the famous cocktail made with Campari and Prosecco. The&nbsp;cicchetti&nbsp;are&nbsp;polpettine di carne e patate&nbsp;(fried meatballs prepared with ground beef\,  potatoes and mortadella\,  also in[..]\nhttps://www.cucinadelsole.nl/events/venetian-cuisine-2/
URL:https://www.cucinadelsole.nl/events/venetian-cuisine-2/
END:VEVENT
END:VCALENDAR