BEGIN:VCALENDAR
VERSION:2.0
PRODID:-//eventon.com NONSGML v1.0//EN
BEGIN:VEVENT
UID:69e79a2af1fc8
DTSTAMP:20260421T173922
DTSTART:20230225T103000Z
DTEND:20230225T143000Z
TZID:Europe/Berlin
LOCATION:
SUMMARY:VENETIAN CUISINE
DESCRIPTION: We begin our journey into the culinary history of Venice by preparing two&nbsp;cicchetti: small snacks served as aperitif in the characteristic cafés called&nbsp;bàcari. With our&nbsp;cicchetti&nbsp;we drink a&nbsp;Spritz\,  the famous cocktail made with Campari and Prosecco. The cicchetti are polpettine di carne e patate (fried meatballs prepared with ground beef\,  potatoes and mortadella\,  also in[..]\nhttps://www.cucinadelsole.nl/events/venetian-cuisine/
URL:https://www.cucinadelsole.nl/events/venetian-cuisine/
END:VEVENT
END:VCALENDAR