BEGIN:VCALENDAR
VERSION:2.0
PRODID:-//eventon.com NONSGML v1.0//EN
BEGIN:VEVENT
UID:69e776bc5d67d
DTSTAMP:20260421T150812
DTSTART:20230527T103000Z
DTEND:20230527T143000Z
TZID:Europe/Berlin
LOCATION:
SUMMARY:PIZZA WORKSHOP
DESCRIPTION: Learn how to make pizza like a pro!During this cooking class we prepare two types of dough: one for pizza romana (the thin-crusted one) and one for the pizza napoletana (the thicker one).For complete info on this workshop click on “Learn more”.\nhttps://www.cucinadelsole.nl/events/pizza-workshop-25/
URL:https://www.cucinadelsole.nl/events/pizza-workshop-25/
END:VEVENT
END:VCALENDAR