BEGIN:VCALENDAR
VERSION:2.0
PRODID:-//eventon.com NONSGML v1.0//EN
BEGIN:VEVENT
UID:69e776ebf080a
DTSTAMP:20260421T150859
DTSTART:20230523T180000Z
DTEND:20230523T220000Z
TZID:Europe/Berlin
LOCATION:
SUMMARY:PIZZA WORKSHOP ￼
DESCRIPTION: Learn how to make pizza like a pro!During this cooking class we prepare two types of dough: one for pizza romana (the thin-crusted one) and one for the pizza napoletana (the thicker one).For complete info on this workshop click on “Learn more”.\nhttps://www.cucinadelsole.nl/events/pizza-workshop-%ef%bf%bc/
URL:https://www.cucinadelsole.nl/events/pizza-workshop-%ef%bf%bc/
END:VEVENT
END:VCALENDAR