BEGIN:VCALENDAR
VERSION:2.0
PRODID:-//eventon.com NONSGML v1.0//EN
BEGIN:VEVENT
UID:69e765422b508
DTSTAMP:20260421T135338
DTSTART:20230124T180000Z
DTEND:20230124T220000Z
TZID:Europe/Berlin
LOCATION:
SUMMARY:PIZZA WORKSHOP 
DESCRIPTION: Leer pizza maken als een “pro”! Tijdens deze workshop maken we twee soorten deeg: eentje voor de pizza romana (dunne bodem) en eentje voor de pizza napoletana (iets dikkere bodem). Voor meer info klik op &#8220;Learn more&#8221;.\nhttps://www.cucinadelsole.nl/events/pizza-workshop-24/
URL:https://www.cucinadelsole.nl/events/pizza-workshop-24/
END:VEVENT
END:VCALENDAR