BEGIN:VCALENDAR
VERSION:2.0
PRODID:-//eventon.com NONSGML v1.0//EN
BEGIN:VEVENT
UID:69e7adbb9db74
DTSTAMP:20260421T190251
DTSTART:20230128T103000Z
DTEND:20230128T143000Z
TZID:Europe/Berlin
LOCATION:
SUMMARY:PIZZA WORKSHOP 
DESCRIPTION: Learn how to make pizza like a pro!During this cooking class we prepare two types of dough: one for pizza romana (the thin-crusted one) and one for the pizza napoletana (the thicker one).For complete info on this workshop click on “Learn more”.\nhttps://www.cucinadelsole.nl/events/pizza-workshop-23/
URL:https://www.cucinadelsole.nl/events/pizza-workshop-23/
END:VEVENT
END:VCALENDAR