BEGIN:VCALENDAR
VERSION:2.0
PRODID:-//eventon.com NONSGML v1.0//EN
BEGIN:VEVENT
UID:69e7e88d75be2
DTSTAMP:20260421T231349
DTSTART:20230308T180000Z
DTEND:20230308T223000Z
TZID:Europe/Berlin
LOCATION:
SUMMARY:KOOKCURSUS BASIS VD ITALIAANSE KEUKEN DEEL 2 WED10 - 4 LESSEN
DESCRIPTION: Cursus WED10. 4 lessen&nbsp;Woensdag 8\,  15\,  22 en 29 maart 2023 met meer Italiaanse klassiekers. VOOR MEER INFO KLIK OP “LEARN MORE”.\nhttps://www.cucinadelsole.nl/events/cooking-course-basics-of-the-italian-cuisine-part-2-wed10-4-lessons/
URL:https://www.cucinadelsole.nl/events/cooking-course-basics-of-the-italian-cuisine-part-2-wed10-4-lessons/
END:VEVENT
END:VCALENDAR