BEGIN:VCALENDAR
VERSION:2.0
PRODID:-//eventon.com NONSGML v1.0//EN
BEGIN:VEVENT
UID:69e82816469e6
DTSTAMP:20260422T034454
DTSTART:20230201T180000Z
DTEND:20230201T223000Z
TZID:Europe/Berlin
LOCATION:
SUMMARY:PASTA & GNOCCHI WORKSHOP￼
DESCRIPTION: Wil je pasta en gnocchi leren maken? Dan is deze kookworkshop voor jou! De hoofdthema’s zijn verse pasta en aardappelgnocchi en je leert alles hierover dankzij de tips en trucs van onze ervaren pastadeskundigen. Iedereen gaat een bolletje deeg maken met 2 soorten bloem en eieren. Daarna gaan we vier[..]\nhttps://www.cucinadelsole.nl/events/pasta-gnocchi-workshop%ef%bf%bc/
URL:https://www.cucinadelsole.nl/events/pasta-gnocchi-workshop%ef%bf%bc/
END:VEVENT
END:VCALENDAR