BEGIN:VCALENDAR
VERSION:2.0
PRODID:-//eventon.com NONSGML v1.0//EN
BEGIN:VEVENT
UID:69e82a43086c4
DTSTAMP:20260422T035411
DTSTART:20230304T103000Z
DTEND:20230304T143000Z
TZID:Europe/Berlin
LOCATION:
SUMMARY:KOOKCURSUS BASIS VD ITALIAANSE KEUKEN SAT9 - 4 LESSEN
DESCRIPTION: Cursus SAT9. 4 lessen op&nbsp;zaterdag&nbsp;4\,  11\,  18 en 25 maart 2023&nbsp;met veel van de basisrecepten van de Italiaanse keuken (pasta\,  gnocchi\,  risotto\,  sauzen\,  bolognese\,  ciabatta\,  antipasti en klassieken\,  desserts).VOOR MEER INFO KLIK Op “LEARN MORE”.\nhttps://www.cucinadelsole.nl/events/cooking-course-basics-of-the-italian-cuisine-sat9-4-lessons%ef%bf%bc/
URL:https://www.cucinadelsole.nl/events/cooking-course-basics-of-the-italian-cuisine-sat9-4-lessons%ef%bf%bc/
END:VEVENT
END:VCALENDAR