BEGIN:VCALENDAR
VERSION:2.0
PRODID:-//eventon.com NONSGML v1.0//EN
BEGIN:VEVENT
UID:69e83d4887f18
DTSTAMP:20260422T051520
DTSTART:20230304T103000Z
DTEND:20230304T143000Z
TZID:Europe/Berlin
LOCATION:
SUMMARY:COOKING COURSE BASICS OF THE ITALIAN CUISINE SAT9 - 4 LESSONS￼
DESCRIPTION: Course SAT9. 4 lessons&nbsp;Saturday 4\,  11\,  18 and 25 March 2023&nbsp;with all the basics of the Italian cuisine (pasta\,  gnocchi\,  risotto\,  sauces\,  bolognese\,  ciabatta\,  classics\,  desserts).FOR MORE INFO CLICK ON “LEARN MORE”.\nhttps://www.cucinadelsole.nl/events/cooking-course-basics-of-the-italian-cuisine-sat9-4-lessons%ef%bf%bc/
URL:https://www.cucinadelsole.nl/events/cooking-course-basics-of-the-italian-cuisine-sat9-4-lessons%ef%bf%bc/
END:VEVENT
END:VCALENDAR