BEGIN:VCALENDAR
VERSION:2.0
PRODID:-//eventon.com NONSGML v1.0//EN
BEGIN:VEVENT
UID:69e85249c3a2f
DTSTAMP:20260422T064457
DTSTART:20230221T180000Z
DTEND:20230221T223000Z
TZID:Europe/Berlin
LOCATION:
SUMMARY:DE TOSCAANSE KEUKEN
DESCRIPTION: Deze kookworkshop is een eerbetoon aan de Toscaanse keuken\,  die wereldwijd zeer geliefd is voor haar eenvoudige en toch fantastische gerechten. We bereiden twee soorten crostini (groene met een smaakvolle kruidenpesto en rode met een pittige tomaat- en bonencrème) en dan crespelle alla fiorentina (dunne handgemaakte cannelloni gevuld met ricotta en spinazie in tomatensaus). De bijgerechten zijn panzanella\, [..]\nhttps://www.cucinadelsole.nl/events/the-tuscan-cuisine-5/
URL:https://www.cucinadelsole.nl/events/the-tuscan-cuisine-5/
END:VEVENT
END:VCALENDAR