BEGIN:VCALENDAR
VERSION:2.0
PRODID:-//eventon.com NONSGML v1.0//EN
BEGIN:VEVENT
UID:69e852a0a5e68
DTSTAMP:20260422T064624
DTSTART:20230221T180000Z
DTEND:20230221T223000Z
TZID:Europe/Berlin
LOCATION:
SUMMARY:THE TUSCAN CUISINE
DESCRIPTION: This Tuscan cooking workshop is the example of why the Tuscan cuisine is so loved: because of her simplicity and amazing tastiness. We prepare two types of crostini (green ones with a tangy herbal pesto\,  then red ones with a spicy tomato and beans cream) plus crespelle alla fiorentina (thin crêpes stuffed with ricotta and[..]\nhttps://www.cucinadelsole.nl/events/the-tuscan-cuisine-5/
URL:https://www.cucinadelsole.nl/events/the-tuscan-cuisine-5/
END:VEVENT
END:VCALENDAR