BEGIN:VCALENDAR
VERSION:2.0
PRODID:-//eventon.com NONSGML v1.0//EN
BEGIN:VEVENT
UID:69e863bbc804d
DTSTAMP:20260422T075923
DTSTART:20221130T180000Z
DTEND:20221130T220000Z
TZID:Europe/Berlin
LOCATION:
SUMMARY:PIZZA WORKSHOP
DESCRIPTION: Learn how to make pizza like a pro!During this cooking class we prepare&nbsp;two types of dough: one for&nbsp;pizza romana&nbsp;(the thin-crusted one) and one for the&nbsp;pizza napoletana&nbsp;(the thicker one). For complete info on this workshop click on “Learn more”.\nhttps://www.cucinadelsole.nl/events/pizza-workshop-22/
URL:https://www.cucinadelsole.nl/events/pizza-workshop-22/
END:VEVENT
END:VCALENDAR