BEGIN:VCALENDAR
VERSION:2.0
PRODID:-//eventon.com NONSGML v1.0//EN
BEGIN:VEVENT
UID:69e87c854b8ce
DTSTAMP:20260422T094509
DTSTART:20221214T180000Z
DTEND:20221214T223000Z
TZID:Europe/Berlin
LOCATION:
SUMMARY:DE SICILIAANSE KEUKEN
DESCRIPTION: We beginnen met de heerlijke involtini di melanzane con spaghettini\,  rolletjes van gegrild aubergine gevuld met dunne spaghetti in een rijke tomaat & gezouten ricotta saus. We gaan verder met de verrassende fuazza agli spinaci\,  een opgerolde focaccia (zie foto) gevuld met spinazie\,  olijven\,  knoflook en veel pecorino kaas. De pollo con peperonata[..]\nhttps://www.cucinadelsole.nl/events/the-sicilian-cuisine-2-2/
URL:https://www.cucinadelsole.nl/events/the-sicilian-cuisine-2-2/
END:VEVENT
END:VCALENDAR