BEGIN:VCALENDAR
VERSION:2.0
PRODID:-//eventon.com NONSGML v1.0//EN
BEGIN:VEVENT
UID:69e8a6a016fc5
DTSTAMP:20260422T124448
DTSTART:20230321T180000Z
DTEND:20230321T223000Z
TZID:Europe/Berlin
LOCATION:
SUMMARY:KOOKCURSUS BASIS VD ITALIAANSE KEUKEN TUE9 - 4 LESSEN
DESCRIPTION: Cursus TUE9. 4 lessen 21 & 28 maart en 4 & 11 april 2023 met veel van de basisrecepten van de Italiaanse keuken (pasta\,  gnocchi\,  risotto\,  sauzen\,  bolognese\,  ciabatta\,  antipasti en klassieken\,  desserts).VOOR MEER INFO KLIK OP “LEARN MORE”.\nhttps://www.cucinadelsole.nl/events/cooking-course-basics-of-the-italian-cuisine-tue9-4-lessons/
URL:https://www.cucinadelsole.nl/events/cooking-course-basics-of-the-italian-cuisine-tue9-4-lessons/
END:VEVENT
END:VCALENDAR