BEGIN:VCALENDAR
VERSION:2.0
PRODID:-//eventon.com NONSGML v1.0//EN
BEGIN:VEVENT
UID:69e8a771671ce
DTSTAMP:20260422T124817
DTSTART:20230321T180000Z
DTEND:20230321T223000Z
TZID:Europe/Berlin
LOCATION:
SUMMARY:COOKING COURSE BASICS OF THE ITALIAN CUISINE TUE9 - 4 LESSONS
DESCRIPTION: Course TUE9. 4 lessons&nbsp;21 & 28 March and 4 & 11 April 2023 with all the basics of the Italian cuisine (pasta\,  gnocchi\,  risotto\,  sauces\,  bolognese\,  ciabatta\,  classics\,  desserts).\nhttps://www.cucinadelsole.nl/events/cooking-course-basics-of-the-italian-cuisine-tue9-4-lessons/
URL:https://www.cucinadelsole.nl/events/cooking-course-basics-of-the-italian-cuisine-tue9-4-lessons/
END:VEVENT
END:VCALENDAR