BEGIN:VCALENDAR
VERSION:2.0
PRODID:-//eventon.com NONSGML v1.0//EN
BEGIN:VEVENT
UID:69e8a76b91eb6
DTSTAMP:20260422T124811
DTSTART:20230214T180000Z
DTEND:20230214T223000Z
TZID:Europe/Berlin
LOCATION:
SUMMARY:VALENTINE'S DATE NIGHT
DESCRIPTION: Ben je dol op Italiaans eten en wijn en wil je je geliefde verrassen met een smakelijke date op Valentijnsdag?Kom met ons koken op deze “boozy” date night!&nbsp;BOEK NU. We zullen een aantal prachtige gerechten bereiden die bedacht zijn om liefdevolle gevoelens op te wekken\,  allemaal gemaakt met Italiaanse wijn.[..]\nhttps://www.cucinadelsole.nl/events/valentines-date-night/
URL:https://www.cucinadelsole.nl/events/valentines-date-night/
END:VEVENT
END:VCALENDAR